BEGIN:VCALENDAR
VERSION:2.0
PRODID:-//Vasistdas.de - ECPv6.15.20//NONSGML v1.0//EN
CALSCALE:GREGORIAN
METHOD:PUBLISH
X-WR-CALNAME:Vasistdas.de
X-ORIGINAL-URL:https://vasistdas.de
X-WR-CALDESC:Vasistdas.de için etkinlikler
REFRESH-INTERVAL;VALUE=DURATION:PT1H
X-Robots-Tag:noindex
X-PUBLISHED-TTL:PT1H
BEGIN:VTIMEZONE
TZID:Europe/Helsinki
BEGIN:DAYLIGHT
TZOFFSETFROM:+0200
TZOFFSETTO:+0300
TZNAME:EEST
DTSTART:20250330T010000
END:DAYLIGHT
BEGIN:STANDARD
TZOFFSETFROM:+0300
TZOFFSETTO:+0200
TZNAME:EET
DTSTART:20251026T010000
END:STANDARD
BEGIN:DAYLIGHT
TZOFFSETFROM:+0200
TZOFFSETTO:+0300
TZNAME:EEST
DTSTART:20260329T010000
END:DAYLIGHT
BEGIN:STANDARD
TZOFFSETFROM:+0300
TZOFFSETTO:+0200
TZNAME:EET
DTSTART:20261025T010000
END:STANDARD
BEGIN:DAYLIGHT
TZOFFSETFROM:+0200
TZOFFSETTO:+0300
TZNAME:EEST
DTSTART:20270328T010000
END:DAYLIGHT
BEGIN:STANDARD
TZOFFSETFROM:+0300
TZOFFSETTO:+0200
TZNAME:EET
DTSTART:20271031T010000
END:STANDARD
END:VTIMEZONE
BEGIN:VEVENT
DTSTART;TZID=Europe/Helsinki:20260327T200000
DTEND;TZID=Europe/Helsinki:20260327T220000
DTSTAMP:20260419T152405
CREATED:20260219T181946Z
LAST-MODIFIED:20260219T181946Z
UID:10000400-1774641600-1774648800@vasistdas.de
SUMMARY:Kanlı Kabare Tiyatro Oyunu - Berlin
DESCRIPTION:
URL:https://vasistdas.de/almanya-etkinlik/kanli-kabare-okan-bayulgen-berlin/
LOCATION:Baptisten / Evangelische Kirche Schöneberg Berlin\, Hauptstr. 125 a\, Berlin\, 10827\, Germany
CATEGORIES:Sahne & Gösteri
END:VEVENT
BEGIN:VEVENT
DTSTART;TZID=Europe/Helsinki:20260227T200000
DTEND;TZID=Europe/Helsinki:20260227T220000
DTSTAMP:20260419T152405
CREATED:20260101T101900Z
LAST-MODIFIED:20260101T101900Z
UID:10000296-1772222400-1772229600@vasistdas.de
SUMMARY:Şehriban'la Memleket Kahkahası Tiyatro Oyunu - Berlin
DESCRIPTION:
URL:https://vasistdas.de/almanya-etkinlik/sehribanla-memleket-kahkahasi-berlin/
LOCATION:Baptisten / Evangelische Kirche Schöneberg Berlin\, Hauptstr. 125 a\, Berlin\, 10827\, Germany
CATEGORIES:Sahne & Gösteri
END:VEVENT
END:VCALENDAR