BEGIN:VCALENDAR
VERSION:2.0
PRODID:-//Vasistdas.de - ECPv6.15.20//NONSGML v1.0//EN
CALSCALE:GREGORIAN
METHOD:PUBLISH
X-ORIGINAL-URL:https://vasistdas.de
X-WR-CALDESC:Vasistdas.de için etkinlikler
REFRESH-INTERVAL;VALUE=DURATION:PT1H
X-Robots-Tag:noindex
X-PUBLISHED-TTL:PT1H
BEGIN:VTIMEZONE
TZID:Europe/Helsinki
BEGIN:DAYLIGHT
TZOFFSETFROM:+0200
TZOFFSETTO:+0300
TZNAME:EEST
DTSTART:20250330T010000
END:DAYLIGHT
BEGIN:STANDARD
TZOFFSETFROM:+0300
TZOFFSETTO:+0200
TZNAME:EET
DTSTART:20251026T010000
END:STANDARD
BEGIN:DAYLIGHT
TZOFFSETFROM:+0200
TZOFFSETTO:+0300
TZNAME:EEST
DTSTART:20260329T010000
END:DAYLIGHT
BEGIN:STANDARD
TZOFFSETFROM:+0300
TZOFFSETTO:+0200
TZNAME:EET
DTSTART:20261025T010000
END:STANDARD
BEGIN:DAYLIGHT
TZOFFSETFROM:+0200
TZOFFSETTO:+0300
TZNAME:EEST
DTSTART:20270328T010000
END:DAYLIGHT
BEGIN:STANDARD
TZOFFSETFROM:+0300
TZOFFSETTO:+0200
TZNAME:EET
DTSTART:20271031T010000
END:STANDARD
END:VTIMEZONE
BEGIN:VEVENT
DTSTART;TZID=Europe/Helsinki:20260430T210000
DTEND;TZID=Europe/Helsinki:20260430T230000
DTSTAMP:20260423T122055
CREATED:20260414T105100Z
LAST-MODIFIED:20260414T105100Z
UID:10000493-1777582800-1777590000@vasistdas.de
SUMMARY:Pentagram Konseri - Berlin
DESCRIPTION:
URL:https://vasistdas.de/almanya-etkinlik/pentagram-konseri-berlin/
LOCATION:Biergarten Jockel – Berlin\, Ratiborstraße 14c\, Berlin\, 10999\, Germany
CATEGORIES:Konserler
END:VEVENT
END:VCALENDAR